Workbook
Name __JJ21: [1]중기일위대가!$J$25
Name __JK21: [1]중기일위대가!$K$25
Name __JN21: [1]중기일위대가!$I$25
Name _JJ21: [1]중기일위대가!$J$25
Name _JK21: [1]중기일위대가!$K$25
Name _JN21: [1]중기일위대가!$I$25
Name \d: #REF!
Name \i: #REF!
Name AAA: BlankMacro1
Name bbb: BlankMacro1
Name ccc: BlankMacro1
Name D: BlankMacro1
Name DAN: #REF!
Name dd: BlankMacro1
Name DDD: BlankMacro1
Name DDS: BlankMacro1
Name DDW: BlankMacro1
Name dhd: BlankMacro1
Name DKD: BlankMacro1
Name DKE: BlankMacro1
Name DKGK: BlankMacro1
Name drsg: #REF!
Name DS: BlankMacro1
Name DWS: BlankMacro1
Name E: BlankMacro1
Name edgh: #REF!
Name edtgh: #REF!
Name EXE: BlankMacro1
Name f: #REF!
Name FFFF: BlankMacro1
Name fffff: #N/A
Name fffffff: BlankMacro1
Name GAB: #REF!
Name gfaag: Dlog_Show
Name gff: BlankMacro1
Name gfg: [0]!uiy
Name GFH: [0]!FFF
Name gg: BlankMacro1
Name GGG: [0]!DGRT
Name ggh: [0]!jhg
Name GHG: #N/A
Name ghgfh: #N/A
Name GHHJHJ: BlankMacro1
Name GREE: [0]!vnb
Name GVHBG: #N/A
Name gvv: [0]!ㅁㄴㄹㅇㄹ
Name GYTR: #N/A
Name han_code: [5]!han_code
Name HBHG: #N/A
Name HCY: [0]!CDD
Name HGG: #N/A
Name hgju: BlankMacro1
Name HHG: [0]!NNC
Name hhhh: BlankMacro1
Name HHK: #N/A
Name hjk: #N/A
Name HTD: #N/A
Name hyh: [0]!ytjuy
Name ii: BlankMacro1
Name iik: [0]!ghgfh

Sheet 원가계산서
B1: 공 사 원 가 계 산 서
B2: 공사명 : 대전로봇드론지원센터 시험동 신축소방공사 | F2: ="금액 : "&NUMBERSTRING(E27,1)&"원정 (\"&FIXED(E27,0,0)&")" -> 금액 : 영원정 (\0)
B3: 비 목 | E3: 금 액 | F3: 구 성 비 | G3: 비 고
A4: A1 | B4: 순 공 사 원 가 | C4: 재 료 비 | D4: 직 접 재 료 비 | E4: =TRUNC(공종별집계표!F5, 0) -> 0
A5: A2 | D5: 간 접 재 료 비 | E5: 0
A6: A3 | D6: 작업설, 부산물(△) | E6: 0
A7: AS | D7: [ 소 계 ] | E7: =TRUNC(E4+E5-E6, 0) -> 0
A8: B1 | C8: 노 무 비 | D8: 직 접 노 무 비 | E8: =TRUNC(공종별집계표!H5, 0) -> 0
A9: B2 | D9: 간 접 노 무 비 | E9: =TRUNC(E8*0.175, 0) -> 0 | F9: 직접노무비 * 17.5%
A10: BS | D10: [ 소 계 ] | E10: =TRUNC(E8+E9, 0) -> 0
A11: C4 | C11: 경 비 | D11: 산 재 보 험 료 | E11: =TRUNC(E10*0.0356, 0) -> 0 | F11: 노무비 * 3.56%
A12: CB | D12: 노인장기요양보험료 | E12: =TRUNC(E14*0.1314, 0) -> 0 | F12: 건강보험료 * 13.14%
A13: C5 | D13: 고 용 보 험 료 | E13: =TRUNC(E10*0.0101, 0) -> 0 | F13: 노무비 * 1.01%
A14: C6 | D14: 국민 건강 보험료 | E14: =TRUNC(E8*0.03595, 0) -> 0 | F14: 직접노무비 * 3.595%
A15: C7 | D15: 국민 연금 보험료 | E15: =TRUNC(E8*0.0475, 0) -> 0 | F15: 직접노무비 * 4.75%
A16: CA | D16: 산업안전보건관리비 | E16: =TRUNC((E7+E8+(0/1.1))*0.0311, 0) -> 0 | F16: (재료비+직노) * 3.11%
A17: CG | D17: 기 타 경 비 | E17: =TRUNC((E7+E10)*0.05, 0) -> 0 | F17: (재료비+노무비) * 5%
D18: 석 면 분 담 금 | E18: =TRUNC((E10)*0.00006, 0) -> 0 | F18: 노무비 * 0.006%
D19: 임 금 채 권 부 담 금 | E19: =TRUNC((E10)*0.0009, 0) -> 0 | F19: 노무비 * 0.09%
A20: CS | D20: [ 소 계 ] | E20: =TRUNC(E11+E13+E14+E15+E16+E12+E17+E18+E19, 0) -> 0
A21: S1 | B21: 계 | E21: =TRUNC(E7+E10+E20, 0) -> 0
A22: D1 | B22: 일 반 관 리 비 | E22: =TRUNC(E21*0.08, 0) -> 0 | F22: 계 * 8%
A23: D2 | B23: 이 윤 | E23: =TRUNC((E10+E20+E22)*0.15, 0) -> 0 | F23: (노무비+경비+일반관리비) * 15%
A24: D9 | B24: 공 급 가 액 | E24: =TRUNC(E21+E22+E23, 0) -> 0
A25: DB | B25: 부 가 가 치 세 | E25: =TRUNC(E24*0.1, 0) -> 0 | F25: 공급가액 * 10%
A26: DH | B26: 도 급 액 | E26: =TRUNC(E24+E25, 0) -> 0
A27: S2 | B27: 총 공 사 비 | E27: =TRUNC(E26+0, 0) -> 0

Sheet 공종별집계표
A1: 공 종 별 집 계 표
A2: [ 대전로봇드론지원센터 시험동 신축소방공사 ]
A3: 품 명 | B3: 규 격 | C3: 단위 | D3: 수량 | E3: 재 료 비 | G3: 노 무 비 | I3: 경 비 | K3: 합 계 | M3: 비 고 | N3: 공종코드 | O3: 변수 | P3: 상위공종 | Q3: 공종구분 | R3: 공종레벨 | S3: 공종소계 | T3: 원가계산서 연결금액
E4: 단 가 | F4: 금 액 | G4: 단 가 | H4: 금 액 | I4: 단 가 | J4: 금 액 | K4: 단 가 | L4: 금 액
A5: 대전로봇드론지원센터 시험동 신축소방공사 | D5: 1 | E5: =F6 -> 0 | F5: =E5*D5 -> 0 | G5: =H6 -> 0 | H5: =G5*D5 -> 0 | I5: =J6 -> 0 | J5: =I5*D5 -> 0 | K5: =E5+G5+I5 -> 0 | L5: =F5+H5+J5 -> 0 | N5: 01 | R5: 1
A6: 전기소방공사 | D6: 1 | E6: =F7+F8+F9+F10+F11 -> 0 | F6: =E6*D6 -> 0 | G6: =H7+H8+H9+H10+H11 -> 0 | H6: =G6*D6 -> 0 | I6: =J7+J8+J9+J10+J11 -> 0 | J6: =I6*D6 -> 0 | K6: =E6+G6+I6 -> 0 | L6: =F6+H6+J6 -> 0 | N6: 0101 | P6: 01 | R6: 2
A7: 소방간선설비공사 | D7: 1 | E7: =공종별내역서!F27 -> 0 | F7: =E7*D7 -> 0 | G7: =공종별내역서!H27 -> 0 | H7: =G7*D7 -> 0 | I7: =공종별내역서!J27 -> 0 | J7: =I7*D7 -> 0 | K7: =E7+G7+I7 -> 0 | L7: =F7+H7+J7 -> 0 | N7: 010101 | P7: 0101 | R7: 3
A8: 자동화재탐지설비공사 | D8: 1 | E8: =공종별내역서!F51 -> 0 | F8: =E8*D8 -> 0 | G8: =공종별내역서!H51 -> 0 | H8: =G8*D8 -> 0 | I8: =공종별내역서!J51 -> 0 | J8: =I8*D8 -> 0 | K8: =E8+G8+I8 -> 0 | L8: =F8+H8+J8 -> 0 | N8: 010102 | P8: 0101 | R8: 3
A9: 시각경보기설비공사 | D9: 1 | E9: =공종별내역서!F75 -> 0 | F9: =E9*D9 -> 0 | G9: =공종별내역서!H75 -> 0 | H9: =G9*D9 -> 0 | I9: =공종별내역서!J75 -> 0 | J9: =I9*D9 -> 0 | K9: =E9+G9+I9 -> 0 | L9: =F9+H9+J9 -> 0 | N9: 010103 | P9: 0101 | R9: 3
A10: 유도등설비공사 | D10: 1 | E10: =공종별내역서!F99 -> 0 | F10: =E10*D10 -> 0 | G10: =공종별내역서!H99 -> 0 | H10: =G10*D10 -> 0 | I10: =공종별내역서!J99 -> 0 | J10: =I10*D10 -> 0 | K10: =E10+G10+I10 -> 0 | L10: =F10+H10+J10 -> 0 | N10: 010104 | P10: 0101 | R10: 3
A11: 소화설비공사 | D11: 1 | E11: =공종별내역서!F123 -> 0 | F11: =E11*D11 -> 0 | G11: =공종별내역서!H123 -> 0 | H11: =G11*D11 -> 0 | I11: =공종별내역서!J123 -> 0 | J11: =I11*D11 -> 0 | K11: =E11+G11+I11 -> 0 | L11: =F11+H11+J11 -> 0 | N11: 010105 | P11: 0101 | R11: 3
A27: [ 합 계 ] | F27: =F5 -> 0 | H27: =H5 -> 0 | J27: =J5 -> 0 | L27: =L5 -> 0

Sheet 공종별내역서
A1: [ 대전로봇드론지원센터 시험동 신축소방공사 ]
A2: 품 명 | B2: 규 격 | C2: 단위 | D2: 수량 | E2: 재 료 비 | G2: 노 무 비 | I2: 경 비 | K2: 합 계 | M2: 비 고 | N2: 품목코드 | O2: 변수 | P2: 설정 | Q2: 공종코드 | R2: 일위 | S2: 단산 | T2: 자재 | U2: 손료적용 | V2: 손료저장 | W2: 적용율 | X2: JUK1 | Y2: JUK2 | Z2: JUK3 | AA2: JUK4 | AB2: JUK5 | AC2: JUK6 | AD2: JUK7 | AE2: JUK8 | AF2: JUK9 | AG2: JUK10 | AH2: JUK11 | AI2: JUK12 | AJ2: JUK13 | AK2: JUK14 | AL2: JUK15 | AM2: JUK16 | AN2: JUK17 | AO2: JUK18 | AP2: JUK19 | AQ2: JUK20 | AR2: 자재구분 | AS2: 공종구분 | AT2: 공종레벨 | AU2: 공종+자재 | AV2: 고유번호
E3: 단 가 | F3: 금 액 | G3: 단 가 | H3: 금 액 | I3: 단 가 | J3: 금 액 | K3: 단 가 | L3: 금 액
A4: 소방간선설비공사 | Q4: 010101
A5: 저독성난연케이블 | B5: HFIX, 1.78㎜ | C5: M | D5: 1122 | N5: 5C8B768CEE946E6152C589D566171845F4AEC5 | Q5: 010101 | R5: F | S5: F | T5: T | Z5: 3 | AU5: 0101015C8B768CEE946E6152C589D566171845F4AEC5 | AV5: 4
A6: 풀박스 | B6: 풀박스, 100*100*50mm | C6: 개 | D6: 4 | N6: 5C9516BE41F48DF15C6C590431DAF39664B695 | Q6: 010101 | R6: F | S6: F | T6: T | AU6: 0101015C9516BE41F48DF15C6C590431DAF39664B695 | AV6: 5
A7: 합성수지제가요전선관 | B7: 합성수지제가요전선관, HL-PF28, Hi-lex-pf, 난연성, 28mm | C7: M | D7: 44 | N7: 5C9516BE40D43E7153B699421FF71E2575C2D5 | Q7: 010101 | R7: F | S7: F | T7: T | X7: 1 | Z7: 3 | AU7: 0101015C9516BE40D43E7153B699421FF71E2575C2D5 | AV7: 6
A8: 화재수신기 | B8: 화재수신기, P형 1급, 10회로/벽부 | C8: 대 | D8: 1 | N8: 5CEDF66BAC64E1215A3139F4FDE13F60554BA7 | Q8: 010101 | R8: F | S8: F | T8: T | AU8: 0101015CEDF66BAC64E1215A3139F4FDE13F60554BA7 | AV8: 7
A9: 배관용 구멍뚫기(손파기)-Con,c | B9: 두께 15cm 이하 ∮75mm | C9: 개소 | D9: 4 | M9: 호표 1 | N9: 5BF216F3AC341CA15F69499E884EA2 | Q9: 010101 | R9: T | S9: F | T9: F | AU9: 0101015BF216F3AC341CA15F69499E884EA2 | AV9: 8
A10: 분전반 | B10: 배전함, 시각경보기전원반, 3A | C10: 개 | D10: 1 | N10: 5C9516BE41F48DD1518AD965F628945D989A7F | Q10: 010101 | R10: F | S10: F | T10: T | AU10: 0101015C9516BE41F48DD1518AD965F628945D989A7F | AV10: 56
A11: 합성수지제가요전선관 | B11: 합성수지제가요전선관, HL-PF16, Hi-lex-pf, 난연성, 22mm | C11: M | D11: 113 | N11: 5C9516BE40D43E7153B699421FF71E2575C3F5 | Q11: 010101 | R11: F | S11: F | T11: T | X11: 1 | Z11: 3 | AU11: 0101015C9516BE40D43E7153B699421FF71E2575C3F5 | AV11: 10
A12: 전선관부속품비 | B12: CD 관의 40% | C12: 식 | D12: 1 | N12: 5AA276750974BE6150F17915C444001 | Q12: 010101 | R12: F | S12: F | T12: F | U12: 0 | V12: 0 | W12: 0.4 | AU12: 0101015AA276750974BE6150F17915C446003 | AV12: 93
A13: 강제전선관 | B13: 강제전선관, 후강전선관, 아연도, 22mm | C13: M | D13: 67 | N13: 5C9516BE40D43E7153B699421FF71E2464D37A | Q13: 010101 | R13: F | S13: F | T13: T | Y13: 2 | Z13: 3 | AU13: 0101015C9516BE40D43E7153B699421FF71E2464D37A | AV13: 11
A14: 전선관부속품비 | B14: 전선관의 15% | C14: 식 | D14: 1 | N14: 5AA276750974BE6150F17915C447002 | Q14: 010101 | R14: F | S14: F | T14: F | U14: 0 | V14: 0 | W14: 0.15 | AU14: 0101015AA276750974BE6150F17915C441004 | AV14: 94
A15: 잡재료비 | B15: 배관배선의 2% | C15: 식 | D15: 1 | N15: 5AA276750974BE6150F17915C446003 | Q15: 010101 | R15: F | S15: F | T15: F | U15: 0 | V15: 0 | W15: 0.02 | AU15: 0101015AA276750974BE6150F17915C444001 | AV15: 91
A16: 화재경보장치 | B16: 수동발신기SET(경종,표시 등,발신기함) | C16: 개 | D16: 2 | N16: 5CEDF66BA264AC5158DA1912BC8A04E5CEE46C | Q16: 010101 | R16: F | S16: F | T16: T | AU16: 0101015CEDF66BA264AC5158DA1912BC8A04E5CEE46C | AV16: 12
A17: 내선전공 | B17: 일반공사 직종 | C17: 인 | D17: =#REF! -> #REF! | N17: 5B678677F4045C815F4F391599CA4C94F9E7F6 | Q17: 010101 | R17: F | S17: F | T17: T | AA17: 4 | AU17: 0101015B678677F4045C815F4F391599CA4C94F9E7F6 | AV17: 75
A18: 공구손료 | B18: 인력품의 3% | C18: 식 | D18: 1 | N18: 5AA276750974BE6150F17915C441004 | Q18: 010101 | R18: F | S18: F | T18: F | U18: 1 | V18: 0 | W18: 0.03 | AU18: 0101015AA276750974BE6150F17915C447002 | AV18: 92
Q19: 010101
Q20: 010101
Q21: 010101
Q22: 010101
Q23: 010101
Q24: 010101
Q25: 010101
Q26: 010101
A27: [ 합 계 ] | N27: TOTAL
A28: 자동화재탐지설비공사 | Q28: 010102
A29: 저독성난연케이블 | B29: HFIX, 1.38㎜ | C29: M | D29: 1078 | N29: 5C8B768CEE946E6152C589D566171845F4AEC4 | Q29: 010102 | R29: F | S29: F | T29: T | Y29: 2 | AU29: 0101025C8B768CEE946E6152C589D566171845F4AEC4 | AV29: 14
A30: 강제전선관 | B30: 강제전선관, 후강전선관, 아연도, 16mm | C30: M | D30: 269 | N30: 5C9516BE40D43E7153B699421FF71E2464D37B | Q30: 010102 | R30: F | S30: F | T30: T | X30: 1 | Y30: 2 | AU30: 0101025C9516BE40D43E7153B699421FF71E2464D37B | AV30: 15
A31: 전선관부속품비 | B31: 전선관의 15% | C31: 식 | D31: 1 | N31: 5AA276750974BE6150F17915C444001 | Q31: 010102 | R31: F | S31: F | T31: F | U31: 0 | V31: 0 | W31: 0.15 | AU31: 0101025AA276750974BE6150F17915C446003 | AV31: 97
A32: 잡재료비 | B32: 배관배선의 2% | C32: 식 | D32: 1 | N32: 5AA276750974BE6150F17915C447002 | Q32: 010102 | R32: F | S32: F | T32: F | U32: 0 | V32: 0 | W32: 0.02 | AU32: 0101025AA276750974BE6150F17915C444001 | AV32: 95
A33: 차동식감지기 | B33: 연기감지기, 열감지기, 차동식스포트형 | C33: 개 | D33: 8 | N33: 5CEDF66BA264AC5158DA5989E98C7AB99A1C38 | Q33: 010102 | R33: F | S33: F | T33: T | AU33: 0101025CEDF66BA264AC5158DA5989E98C7AB99A1C38 | AV33: 17
A34: 연기감지기 | B34: 연기감지기, 광전식 2종-비축적 | C34: 개 | D34: 19 | N34: 5CEDF66BA264AC5158DA5989E98C7AB99A1F8D | Q34: 010102 | R34: F | S34: F | T34: T | AU34: 0101025CEDF66BA264AC5158DA5989E98C7AB99A1F8D | AV34: 18
A35: 내선전공 | B35: 일반공사 직종 | C35: 인 | D35: =#REF! -> #REF! | N35: 5B678677F4045C815F4F391599CA4C94F9E7F6 | Q35: 010102 | R35: F | S35: F | T35: T | Z35: 3 | AU35: 0101025B678677F4045C815F4F391599CA4C94F9E7F6 | AV35: 90
A36: 공구손료 | B36: 인력품의 3% | C36: 식 | D36: 1 | N36: 5AA276750974BE6150F17915C446003 | Q36: 010102 | R36: F | S36: F | T36: F | U36: 1 | V36: 0 | W36: 0.03 | AU36: 0101025AA276750974BE6150F17915C447002 | AV36: 96
Q37: 010102
Q38: 010102
Q39: 010102
Q40: 010102
Q41: 010102
Q42: 010102
Q43: 010102
Q44: 010102
Q45: 010102
Q46: 010102
Q47: 010102
Q48: 010102
... Q50: 010102
A51: [ 합 계 ] | N51: TOTAL
A52: 시각경보기설비공사 | Q52: 010103
A53: 저독성난연케이블 | B53: HFIX, 1.78㎜ | C53: M | D53: 382 | N53: 5C8B768CEE946E6152C589D566171845F4AEC5 | Q53: 010103 | R53: F | S53: F | T53: T | Z53: 3 | AU53: 0101035C8B768CEE946E6152C589D566171845F4AEC5 | AV53: 20
A54: 아웃렛박스 | B54: 아웃렛박스, 중형4각, 54mm | C54: 개 | D54: 15 | N54: 5C9516BE41F48DF15C6CE960F59161A5D9E691 | Q54: 010103 | R54: F | S54: F | T54: T | AU54: 0101035C9516BE41F48DF15C6CE960F59161A5D9E691 | AV54: 21
A55: 합성수지제가요전선관 | B55: 합성수지제가요전선관, HL-PF16, Hi-lex-pf, 난연성, 16mm | C55: M | D55: 158 | N55: 5C9516BE40D43E7153B699421FF71E2575C3F4 | Q55: 010103 | R55: F | S55: F | T55: T | X55: 1 | Z55: 3 | AU55: 0101035C9516BE40D43E7153B699421FF71E2575C3F4 | AV55: 22
A56: 전선관부속품비 | B56: CD 관의 40% | C56: 식 | D56: 1 | N56: 5AA276750974BE6150F17915C444001 | Q56: 010103 | R56: F | S56: F | T56: F | U56: 0 | V56: 0 | W56: 0.4 | AU56: 0101035AA276750974BE6150F17915C446003 | AV56: 100
A57: 강제전선관 | B57: 강제전선관, 후강전선관, 아연도, 16mm | C57: M | D57: 33 | N57: 5C9516BE40D43E7153B699421FF71E2464D37B | Q57: 010103 | R57: F | S57: F | T57: T | Y57: 2 | Z57: 3 | AU57: 0101035C9516BE40D43E7153B699421FF71E2464D37B | AV57: 23
A58: 전선관부속품비 | B58: 전선관의 15% | C58: 식 | D58: 1 | N58: 5AA276750974BE6150F17915C447002 | Q58: 010103 | R58: F | S58: F | T58: F | U58: 0 | V58: 0 | W58: 0.15 | AU58: 0101035AA276750974BE6150F17915C441004 | AV58: 101
A59: 잡재료비 | B59: 배관배선의 2% | C59: 식 | D59: 1 | N59: 5AA276750974BE6150F17915C446003 | Q59: 010103 | R59: F | S59: F | T59: F | U59: 0 | V59: 0 | W59: 0.02 | AU59: 0101035AA276750974BE6150F17915C444001 | AV59: 98
A60: 시각경보기 | C60: EA | D60: 15 | N60: 5CC2F60433A4798151940978C81C88650AC4C7 | Q60: 010103 | R60: F | S60: F | T60: T | AU60: 0101035CC2F60433A4798151940978C81C88650AC4C7 | AV60: 24
A61: 아웃렛박스 | B61: 아웃렛박스, 커버, 4각, 둥근구멍, 평 | C61: 개 | D61: 15 | N61: 5C9516BE41F48DF15C6CE96349D1579576DE14 | Q61: 010103 | R61: F | S61: F | T61: T | AU61: 0101035C9516BE41F48DF15C6CE96349D1579576DE14 | AV61: 25
A62: 내선전공 | B62: 일반공사 직종 | C62: 인 | D62: =#REF! -> #REF! | N62: 5B678677F4045C815F4F391599CA4C94F9E7F6 | Q62: 010103 | R62: F | S62: F | T62: T | AA62: 4 | AU62: 0101035B678677F4045C815F4F391599CA4C94F9E7F6 | AV62: 59
A63: 공구손료 | B63: 인력품의 3% | C63: 식 | D63: 1 | N63: 5AA276750974BE6150F17915C441004 | Q63: 010103 | R63: F | S63: F | T63: F | U63: 1 | V63: 0 | W63: 0.03 | AU63: 0101035AA276750974BE6150F17915C447002 | AV63: 99
Q64: 010103
Q65: 010103
Q66: 010103
Q67: 010103
Q68: 010103
Q69: 010103
Q70: 010103
Q71: 010103
Q72: 010103
Q73: 010103
Q74: 010103
A75: [ 합 계 ] | N75: TOTAL
A76: 유도등설비공사 | Q76: 010104
A77: 저독성난연케이블 | B77: HFIX, 1.78㎜ | C77: M | D77: 1042 | N77: 5C8B768CEE946E6152C589D566171845F4AEC5 | Q77: 010104 | R77: F | S77: F | T77: T | Y77: 2 | AU77: 0101045C8B768CEE946E6152C589D566171845F4AEC5 | AV77: 27
A78: 유도등 | B78: 유도등, 소형(단면), 60분용, 피난구유도등, 고휘도, LED | C78: 개 | D78: 7 | N78: 5C9516BE4294EB815418298FE7A29B8D918A00 | Q78: 010104 | R78: F | S78: F | T78: T | AU78: 0101045C9516BE4294EB815418298FE7A29B8D918A00 | AV78: 28
A79: 유도등 | B79: 유도등, 통로유도등, 고휘도, LED | C79: 개 | D79: 6 | N79: 5C9516BE4294EB815418298FE7A29B8D918856 | Q79: 010104 | R79: F | S79: F | T79: T | AU79: 0101045C9516BE4294EB815418298FE7A29B8D918856 | AV79: 29
A80: 아웃렛박스 | B80: 아웃렛박스, 중형4각, 54mm | C80: 개 | D80: 19 | N80: 5C9516BE41F48DF15C6CE960F59161A5D9E691 | Q80: 010104 | R80: F | S80: F | T80: T | AU80: 0101045C9516BE41F48DF15C6CE960F59161A5D9E691 | AV80: 30
A81: 음성점멸유도등 | B81: LED, 소형 | C81: 개 | D81: 6 | N81: 5C9516BE4294EB815418298FE7A29B8D918855 | Q81: 010104 | R81: F | S81: F | T81: T | AU81: 0101045C9516BE4294EB815418298FE7A29B8D918855 | AV81: 31
A82: 아웃렛박스 | B82: 아웃렛박스, 커버, 4각, 2개용S/W, 평 | C82: 개 | D82: 19 | N82: 5C9516BE41F48DF15C6CE96349D1579576DE18 | Q82: 010104 | R82: F | S82: F | T82: T | AU82: 0101045C9516BE41F48DF15C6CE96349D1579576DE18 | AV82: 32
A83: 합성수지제가요전선관 | B83: 합성수지제가요전선관, HL-PF16, Hi-lex-pf, 난연성, 16mm | C83: M | D83: 317 | N83: 5C9516BE40D43E7153B699421FF71E2575C3F4 | Q83: 010104 | R83: F | S83: F | T83: T | X83: 1 | Y83: 2 | AU83: 0101045C9516BE40D43E7153B699421FF71E2575C3F4 | AV83: 33
A84: 합성수지제가요전선관 | B84: 합성수지제가요전선관, HL-CD16, 하이렉스-CD, 16mm | C84: M | D84: 16 | N84: 5C9516BE40D43E7153B699421FF71E2575C3F8 | Q84: 010104 | R84: F | S84: F | T84: T | X84: 1 | Y84: 2 | AU84: 0101045C9516BE40D43E7153B699421FF71E2575C3F8 | AV84: 34
A85: 전선관부속품비 | B85: CD 관의 40% | C85: 식 | D85: 1 | N85: 5AA276750974BE6150F17915C444001 | Q85: 010104 | R85: F | S85: F | T85: F | U85: 0 | V85: 0 | W85: 0.4 | AU85: 0101045AA276750974BE6150F17915C446003 | AV85: 104
A86: 잡재료비 | B86: 배관배선의 2% | C86: 식 | D86: 1 | N86: 5AA276750974BE6150F17915C447002 | Q86: 010104 | R86: F | S86: F | T86: F | U86: 0 | V86: 0 | W86: 0.02 | AU86: 0101045AA276750974BE6150F17915C444001 | AV86: 102
A87: 내선전공 | B87: 일반공사 직종 | C87: 인 | D87: =#REF! -> #REF! | N87: 5B678677F4045C815F4F391599CA4C94F9E7F6 | Q87: 010104 | R87: F | S87: F | T87: T | Z87: 3 | AU87: 0101045B678677F4045C815F4F391599CA4C94F9E7F6 | AV87: 60
A88: 공구손료 | B88: 인력품의 3% | C88: 식 | D88: 1 | N88: 5AA276750974BE6150F17915C446003 | Q88: 010104 | R88: F | S88: F | T88: F | U88: 1 | V88: 0 | W88: 0.03 | AU88: 0101045AA276750974BE6150F17915C447002 | AV88: 103
Q89: 010104
Q90: 010104
Q91: 010104
Q92: 010104
Q93: 010104
Q94: 010104
Q95: 010104
Q96: 010104
Q97: 010104
Q98: 010104
A99: [ 합 계 ] | N99: TOTAL
A100: 소화설비공사 | Q100: 010105
A101: 청정소화기 | B101: 3Kg | C101: EA | D101: 4 | N101: 5CC2F60433A4798151940978C81C88650AC79C | Q101: 010105 | R101: F | S101: F | T101: T | AU101: 0101055CC2F60433A4798151940978C81C88650AC79C | AV101: 36
...

Sheet 공량설정
A1: 공종명 | B1: 적용율(%) | C1: 소수점이하자릿수 | D1: 공종코드
A2: 010101 소방간선설비공사 | B2: 100 | D2: 010101
A3: 내선전공 | C3: 0 | D3: 0101015B678677F4045C815F4F391599CA4C94F9E7F6
A4: 010102 자동화재탐지설비공사 | B4: 100 | D4: 010102
A5: 내선전공 | C5: 0 | D5: 0101025B678677F4045C815F4F391599CA4C94F9E7F6
A6: 010103 시각경보기설비공사 | B6: 100 | D6: 010103
A7: 내선전공 | C7: 0 | D7: 0101035B678677F4045C815F4F391599CA4C94F9E7F6
A8: 010104 유도등설비공사 | B8: 100 | D8: 010104
A9: 내선전공 | C9: 0 | D9: 0101045B678677F4045C815F4F391599CA4C94F9E7F6
A10: 010105 소화설비공사 | B10: 100 | D10: 010105

Sheet 공량산출근거서_일위대가
A1: 공 량 산 출 근 거 서
A2: [ 대전로봇드론지원센터 시험동 신축소방공사 ]
A3: 코 드 | B3: 품 명 | C3: 규 격 | D3: 단위 | E3: 품 셈 목 록 | F3: 수 량 | G3: 할증 | H3: 노임할증-1 | I3: 노임할증-2 | J3: 노임할증-3 | K3: 내역수량 | L3: 직 종 명 | M3: 공 량 | N3: 계 | O3: 번 호 | P3: 비 고 | T3: 일위대가목록+자재

Sheet 공량설정_일위대가
A1: 일위대가 | B1: 적용율(%) | C1: 소수점이하자릿수 | D1: 일위대가 코드
A2: 배관용 구멍뚫기(손파기)-Con,c 두께 15cm 이하 ∮75mm (호표 1) | B2: 100 | D2: 5BF216F3AC341CA15F69499E884EA2
A3: 특별인부 | C3: 2 | D3: 5BF216F3AC341CA15F69499E884EA25B678677F4045C815F4F391599CA4C94F9E047

Sheet  공사설정 
A1: 이 Sheet는 수정하지 마십시요
A2: 공사구분 | B2: D | C2: 타이틀
A3: 확정내역 | B3: 원내역
A4: 자재단가적용 | B4: 5
A5: 경비단가적용 | B5: 5
A6: 품목코드형식 | B6: XXXX-XXXXXXXXXXXXX
A7: 내역금액소수점처리 | B7: C | C7: 1
A8: 일위대가내역소수점처리 | B8: C | C8: 2
A9: 단가명 | B9: 조달청가격 | C9: 거래가격 | D9: 유통물가 | E9: 조사가격1 | F9: 조사가격2 | G9: TTTTT
A10: 환율 | B10: 1466 | C10: 0 | D10: 0
A11: 시간당작업량 | B11: R | C11: 4
A12: 1회 사이클시간 | B12: R | C12: 4
A13: 시간당 작업사이클 | B13: R | C13: 3
A14: 일반변수 | B14: R | C14: 5
A15: 시간당 노임산출 계수 | B15: A | C15: 1/8*16/12*25/20 | D15: 1/8*16/12*25/20 | E15: 1/8*16/12*25/20 | F15: 1
A16: 재료비 할증 계수 | B16: 0 | C16: 0
A17: 노무비 할증 계수 | B17: 0 | C17: 0 | D17: 0 | E17: 0 | F17: 0 | G17: 0 | H17: 0 | I17: 0 | J17: 0 | K17: 0 | L17: 0 | M17: 0
A18: 경비 할증 계수 | B18: 0 | C18: 0
A19: 내역,일위대가 품명,규격,단위 따로적용
A20: 내역단가 소수점처리 | C20: 1
A21: 코드 | B21: 공종구분명 | C21: 원가비목코드
A22: 1 | B22: 작 업 부 산 물 | C22: A3
A23: 2 | B23: 운 반 비 | C23: C1
A24: 3 | B24: 관 급 자 재 비 | C24: DJ
A25: 4 | B25: 사 급 자 재 비 | C25: D3
A26: 5 | B26: 외 자 재
A27: 6 | B27: 폐기물처리비
A28: 7 | B28: ...
A29: 8 | B29: ...
A30: 9 | B30: ...
A31: A | B31: ....
A32: B | B32: .....
A33: C | B33: ....
A34: D | B34: ....
A35: E | B35: ....
A36: F | B36: ....
A37: G | B37: ....
A38: H | B38: ....
A39: I | B39: ....
A40: J | B40: ....
A43: 단가 순서 | B43: 1234
